BEGIN:VCALENDAR
VERSION:2.0
PRODID:-//hacksw/handcal//NONSGML v1.0//EN
BEGIN:VEVENT
SUMMARY:Tournoi de Regularite avec Handicap
UID:effa1443-c66e-450c-940f-ed5591655923
DTSTART:20260401T123000Z
DTEND:20260401T163000Z
LOCATION:Localisation   
CATEGORIES:Sportif
STATUS:
URL;VALUE=URI:https://www.bccostieres.com/evenements/2026/04/01/tournoi-de-regularite-avec-handicap-2435698
END:VEVENT
END:VCALENDAR
