BEGIN:VCALENDAR
VERSION:2.0
PRODID:-//hacksw/handcal//NONSGML v1.0//EN
BEGIN:VEVENT
SUMMARY:TOURNOI OCTOPUS
UID:b397f2bb-bb97-4a40-8f64-fb5cd6067bda
DTSTART:20260402T123000Z
DTEND:20260402T163000Z
LOCATION:Localisation   
CATEGORIES:Sportif
STATUS:
URL;VALUE=URI:https://www.bccostieres.com/evenements/2026/04/02/tournoi-octopus-2435700
END:VEVENT
END:VCALENDAR
