BEGIN:VCALENDAR
VERSION:2.0
PRODID:-//hacksw/handcal//NONSGML v1.0//EN
BEGIN:VEVENT
SUMMARY:Tournoi SEC (Simultane d'Entraide au Club)
UID:1d580b10-58c1-4cf2-a711-a316c4b09985
DTSTART:20260403T123000Z
DTEND:20260403T163000Z
LOCATION:Localisation   
CATEGORIES:Sportif
STATUS:
URL;VALUE=URI:https://www.bccostieres.com/evenements/2026/04/03/tournoi-sec-simultane-dentraide-au-club-2396898
END:VEVENT
END:VCALENDAR
