BEGIN:VCALENDAR
VERSION:2.0
PRODID:-//hacksw/handcal//NONSGML v1.0//EN
BEGIN:VEVENT
SUMMARY:Lundi de Paques Club Ferme
UID:7d10af7b-bd93-456d-803a-5b6de4dce557
DTSTART:20260406T060000Z
DTEND:20260406T170000Z
LOCATION:Localisation   
CATEGORIES:Sportif
STATUS:
URL;VALUE=URI:https://www.bccostieres.com/evenements/2026/04/06/lundi-de-paques-club-ferme-2435701
END:VEVENT
END:VCALENDAR
