BEGIN:VCALENDAR
VERSION:2.0
PRODID:-//hacksw/handcal//NONSGML v1.0//EN
BEGIN:VEVENT
SUMMARY:Challenge du Soir
UID:31c2264e-d55e-4e30-91e7-aa22ed9cf1cb
DTSTART:20260407T170000Z
DTEND:20260407T213000Z
LOCATION:Localisation   
CATEGORIES:Sportif
STATUS:
URL;VALUE=URI:https://www.bccostieres.com/evenements/2026/04/07/challenge-du-soir-2437171
END:VEVENT
END:VCALENDAR
