BEGIN:VCALENDAR
VERSION:2.0
PRODID:-//hacksw/handcal//NONSGML v1.0//EN
BEGIN:VEVENT
SUMMARY:Coupe des Clubs. Pour participer a cette competition vous devez avoir joue 8 seances avec le meme partenaire. Finale le samedi 20juin.
UID:683bc2b0-8de2-43be-85e3-32b4d89013bf
DTSTART:20260407T123000Z
DTEND:20260407T163000Z
LOCATION:Localisation   
CATEGORIES:Sportif
STATUS:
URL;VALUE=URI:https://www.bccostieres.com/evenements/2026/04/07/coupe-des-clubs-pour-participer-a-cette-competition-vous-devez-avoir-joue-8-seances-avec-le-meme-partenaire-finale-le-samedi-20juin-2435703
END:VEVENT
END:VCALENDAR
