BEGIN:VCALENDAR
VERSION:2.0
PRODID:-//hacksw/handcal//NONSGML v1.0//EN
BEGIN:VEVENT
SUMMARY:OCTOPUS
UID:67eda62c-5cd1-42b5-a5c6-1a042b0868b1
DTSTART:20260413T123000Z
DTEND:20260413T163000Z
LOCATION:Localisation   
CATEGORIES:Sportif
STATUS:
URL;VALUE=URI:https://www.bccostieres.com/evenements/2026/04/13/octopus-2435708
END:VEVENT
END:VCALENDAR
