BEGIN:VCALENDAR
VERSION:2.0
PRODID:-//hacksw/handcal//NONSGML v1.0//EN
BEGIN:VEVENT
SUMMARY:Coupe des Clubs. Pour participer a cette competition vous devez avoir joue 8 seances avec le meme partenaire. Finale le samedi 20juin.
UID:23009ef2-0597-4cf8-8531-eef4195fc7ac
DTSTART:20260417T123000Z
DTEND:20260417T163000Z
LOCATION:Localisation   
CATEGORIES:Sportif
STATUS:
URL;VALUE=URI:https://www.bccostieres.com/evenements/2026/04/17/coupe-des-clubs-pour-participer-a-cette-competition-vous-devez-avoir-joue-8-seances-avec-le-meme-partenaire-finale-le-samedi-20juin-2435715
END:VEVENT
END:VCALENDAR
