BEGIN:VCALENDAR
VERSION:2.0
PRODID:-//hacksw/handcal//NONSGML v1.0//EN
BEGIN:VEVENT
SUMMARY:OCTOPUS
UID:e78d8ad9-da16-42d9-b15b-83c94ee8c6ba
DTSTART:20260427T123000Z
DTEND:20260427T163000Z
LOCATION:Localisation   
CATEGORIES:Sportif
STATUS:
URL;VALUE=URI:https://www.bccostieres.com/evenements/2026/04/27/octopus-2443035
END:VEVENT
END:VCALENDAR
