BEGIN:VCALENDAR
VERSION:2.0
PRODID:-//hacksw/handcal//NONSGML v1.0//EN
BEGIN:VEVENT
SUMMARY:Tournoi de Regularite avec Handicap
UID:dd98331e-5e10-49cf-90a9-8c25f9108dae
DTSTART:20260430T123000Z
DTEND:20260430T163000Z
LOCATION:Localisation   
CATEGORIES:Sportif
STATUS:
URL;VALUE=URI:https://www.bccostieres.com/evenements/2026/04/30/tournoi-de-regularite-avec-handicap-2443036
END:VEVENT
END:VCALENDAR
