BEGIN:VCALENDAR
VERSION:2.0
PRODID:-//hacksw/handcal//NONSGML v1.0//EN
BEGIN:VEVENT
SUMMARY:Club Ferme
UID:19722dbe-a3c9-4f95-a241-de52e498e593
DTSTART:20260501T123000Z
DTEND:20260601T163000Z
LOCATION:Localisation   
CATEGORIES:Sportif
STATUS:
URL;VALUE=URI:https://www.bccostieres.com/evenements/2026/05/01/club-ferme-2443037
END:VEVENT
END:VCALENDAR
