BEGIN:VCALENDAR
VERSION:2.0
PRODID:-//hacksw/handcal//NONSGML v1.0//EN
BEGIN:VEVENT
SUMMARY:Club Ouvert
UID:64fe5cbb-7ea9-4442-9967-29a0743ceded
DTSTART:20260508T123000Z
DTEND:20260508T163000Z
LOCATION:Localisation   
CATEGORIES:Sportif
STATUS:
URL;VALUE=URI:https://www.bccostieres.com/evenements/2026/05/08/club-ouvert-2443038
END:VEVENT
END:VCALENDAR
