BEGIN:VCALENDAR
VERSION:2.0
PRODID:-//hacksw/handcal//NONSGML v1.0//EN
BEGIN:VEVENT
SUMMARY:Challenge du Soir Nouvelle Formule (17h30 19h30) suivi d'un Buffet Champetre. Participation 10€
UID:710e07e7-7371-467d-9188-0ce60f239656
DTSTART:20260602T153000Z
DTEND:20260602T173000Z
LOCATION:Localisation   
CATEGORIES:Sportif
STATUS:
URL;VALUE=URI:https://www.bccostieres.com/evenements/2026/06/02/challenge-du-soir-nouvelle-formule-17h30-19h30-suivi-dun-buffet-champetre-participation-10eur-2439811
END:VEVENT
END:VCALENDAR
