BEGIN:VCALENDAR
VERSION:2.0
PRODID:-//hacksw/handcal//NONSGML v1.0//EN
BEGIN:VEVENT
SUMMARY:Fete du Club Suivie d'un Buffet en plein air
UID:33002e9a-4814-48fe-8612-73aa33f10339
DTSTART:20260609T123000Z
DTEND:20260609T193000Z
LOCATION:Localisation   
CATEGORIES:Sportif
STATUS:
URL;VALUE=URI:https://www.bccostieres.com/evenements/2026/06/09/fete-du-club-suivie-dun-buffet-en-plein-air-2439808
END:VEVENT
END:VCALENDAR
